BEGIN:VCALENDAR
VERSION:2.0
PRODID:-//87.118.90.70//NONSGML kigkonsult.se iCalcreator 2.20//
CALSCALE:GREGORIAN
METHOD:PUBLISH
X-WR-TIMEZONE:Europe/Berlin
BEGIN:VEVENT
UID:event80@DGfPM e.V.
DTSTAMP:20260421T084614Z
CATEGORIES:Termine
DESCRIPTION:Delegiertenversammlung der DGfPM\nKategorie: Termine\nICS-Link:
  https://www.dgfpm.de/index.php?option=com_jem&view=event&id=80:delegierte
 nversammlung-der-dgfpm\n
DTSTART;TZID=Europe/Berlin:20191129T100000
DTEND;TZID=Europe/Berlin:20191129T140000
LOCATION:Ev. Hochschule Bochum\,Immanuel-Kant-Straße 18-20\, 44803  Bochum
SUMMARY:Delegiertenversammlung der DGfPM
URL:https://www.dgfpm.de/index.php?option=com_jem&view=event&id=80:delegier
 tenversammlung-der-dgfpm
END:VEVENT
END:VCALENDAR
