BEGIN:VCALENDAR
VERSION:2.0
PRODID:-//87.118.90.70//NONSGML kigkonsult.se iCalcreator 2.20//
CALSCALE:GREGORIAN
METHOD:PUBLISH
X-WR-TIMEZONE:Europe/Berlin
BEGIN:VEVENT
UID:event120@DGfPM e.V.
DTSTAMP:20260420T171604Z
CATEGORIES:Termine
DESCRIPTION:„Wieso\, weshalb\, warum?“ - Nichts ist praktischer als psychom
 otorische Theorie\nKategorie: Termine\nICS-Link: https://www.dgfpm.de/inde
 x.php?option=com_jem&view=event&id=120:„wieso\,-weshalb\,-warum“-nichts-is
 t-praktischer-als-psychomotorische-theorie\n
DTSTART;VALUE=DATE:20200207
DTEND;VALUE=DATE:20200209
LOCATION:Landesturnschule\,Melle 
SUMMARY:„Wieso\, weshalb\, warum?“ - Nichts ist praktischer als psychomotor
 ische Theorie
END:VEVENT
END:VCALENDAR
